BEGIN:VCALENDAR
VERSION:2.0
PRODID:-//Warren&#039;s Beer Adventures - ECPv6.15.20//NONSGML v1.0//EN
CALSCALE:GREGORIAN
METHOD:PUBLISH
X-ORIGINAL-URL:https://www.warrensbeeradventures.com
X-WR-CALDESC:Events for Warren&#039;s Beer Adventures
REFRESH-INTERVAL;VALUE=DURATION:PT1H
X-Robots-Tag:noindex
X-PUBLISHED-TTL:PT1H
BEGIN:VTIMEZONE
TZID:America/New_York
BEGIN:DAYLIGHT
TZOFFSETFROM:-0500
TZOFFSETTO:-0400
TZNAME:EDT
DTSTART:20170312T070000
END:DAYLIGHT
BEGIN:STANDARD
TZOFFSETFROM:-0400
TZOFFSETTO:-0500
TZNAME:EST
DTSTART:20171105T060000
END:STANDARD
BEGIN:DAYLIGHT
TZOFFSETFROM:-0500
TZOFFSETTO:-0400
TZNAME:EDT
DTSTART:20180311T070000
END:DAYLIGHT
BEGIN:STANDARD
TZOFFSETFROM:-0400
TZOFFSETTO:-0500
TZNAME:EST
DTSTART:20181104T060000
END:STANDARD
BEGIN:DAYLIGHT
TZOFFSETFROM:-0500
TZOFFSETTO:-0400
TZNAME:EDT
DTSTART:20190310T070000
END:DAYLIGHT
BEGIN:STANDARD
TZOFFSETFROM:-0400
TZOFFSETTO:-0500
TZNAME:EST
DTSTART:20191103T060000
END:STANDARD
END:VTIMEZONE
BEGIN:VEVENT
DTSTART;TZID=America/New_York:20181214T160000
DTEND;TZID=America/New_York:20181216T190000
DTSTAMP:20260423T152040
CREATED:20181205T162248Z
LAST-MODIFIED:20181205T162736Z
UID:4113-1544803200-1544986800@www.warrensbeeradventures.com
SUMMARY:Drizzy Can Drop
DESCRIPTION:Black Flag and Goonda team up to produce a cinnamon flavored stout. Come early\, these cans will go quickly.
URL:https://www.warrensbeeradventures.com/event/drizzy-black-flag-goonda-collab-can-drop/
LOCATION:Black Flag Brewing\, 9315 Snowden River Pkwy\, Ste C\, Columbia\, Maryland\, 21046
CATEGORIES:release
END:VEVENT
BEGIN:VEVENT
DTSTART;TZID=America/New_York:20181214T040000
DTEND;TZID=America/New_York:20181214T233000
DTSTAMP:20260423T152040
CREATED:20181209T220137Z
LAST-MODIFIED:20181209T220137Z
UID:4158-1544760000-1544830200@www.warrensbeeradventures.com
SUMMARY:A Night of Big Beer and Yule Logs @ Black Flag
DESCRIPTION:The Entertainment:\n3 stunning yule logs. They really are the best. \nThe Drank:\nSmall Batch Release – Quad Squad – Belgian Quad\nGoonda Collab – Drizzy – Imperial Cinnamon-Bun Stout 8.9%\nSpecial Barrel Aged Tapping – TBD
URL:https://www.warrensbeeradventures.com/event/a-night-of-big-beer-and-yule-logs-black-flag/
LOCATION:Black Flag Brewing\, 9315 Snowden River Pkwy\, Ste C\, Columbia\, Maryland\, 21046
END:VEVENT
BEGIN:VEVENT
DTSTART;TZID=America/New_York:20181213T160000
DTEND;TZID=America/New_York:20181213T220000
DTSTAMP:20260423T152040
CREATED:20181209T225202Z
LAST-MODIFIED:20181209T225202Z
UID:4180-1544716800-1544738400@www.warrensbeeradventures.com
SUMMARY:Hysteria Local Heroes Night
DESCRIPTION:We’re proud of the community Hysteria is a part of and grateful to those who make it a great one. To help show our appreciation\, we’re introducing Local Heroes Night! \nEvery second Thursday of the month we’ll offer $4 pints all night to teachers\, first responders\, and military starting May 10th! \nActive military and veterans will be accepted\, as well as medical staff (doctors\, nurses\, etc.) *Must present valid ID*
URL:https://www.warrensbeeradventures.com/event/hysteria-local-heroes-night/
LOCATION:Hysteria Brewing Company\, 9570 Berger Rd.\, Columbia\, MD\, 21046
END:VEVENT
BEGIN:VEVENT
DTSTART;TZID=America/New_York:20181212T190000
DTEND;TZID=America/New_York:20181212T220000
DTSTAMP:20260423T152040
CREATED:20181205T151730Z
LAST-MODIFIED:20181205T151730Z
UID:4085-1544641200-1544652000@www.warrensbeeradventures.com
SUMMARY:Neshaminy Creek Pint Night @ Frisco
DESCRIPTION:Order a Neshaminy Creek beer\, get a free pint glass.
URL:https://www.warrensbeeradventures.com/event/neshaminy-creek-pint-night-frisco/
LOCATION:Frisco Tap House\, 6695 Dobbin Rd.\, Columbia\, MD\, 21045\, United States
END:VEVENT
BEGIN:VEVENT
DTSTART;TZID=America/New_York:20181212T160000
DTEND;TZID=America/New_York:20181212T220000
DTSTAMP:20260423T152040
CREATED:20181205T154504Z
LAST-MODIFIED:20181205T154504Z
UID:4095-1544630400-1544652000@www.warrensbeeradventures.com
SUMMARY:BYOM @ Black Flag
DESCRIPTION:Bring a mug (within reason) & they’ll fill it up. (It’s a weekly event!)
URL:https://www.warrensbeeradventures.com/event/byom-black-flag-8/
LOCATION:Black Flag Brewing\, 9315 Snowden River Pkwy\, Ste C\, Columbia\, Maryland\, 21046
ATTACH;FMTTYPE=image/jpeg:https://www.warrensbeeradventures.com/wp-content/uploads/2018/11/byom.jpg
END:VEVENT
BEGIN:VEVENT
DTSTART;TZID=America/New_York:20181211T180000
DTEND;TZID=America/New_York:20181211T230000
DTSTAMP:20260423T152040
CREATED:20181209T224446Z
LAST-MODIFIED:20181209T224446Z
UID:4176-1544551200-1544569200@www.warrensbeeradventures.com
SUMMARY:Stone Xocoveza Chocolate Pairing @ White Oak Tavern
DESCRIPTION:White Oak made chocolate and Stone Xocoveza\, what’s not to like? \n  \n 
URL:https://www.warrensbeeradventures.com/event/stone-xocoveza-chocolate-pairing-white-oak-tavern/
LOCATION:White Oak Tavern\, Enchanted Forest Shopping Center 10030 Baltimore National Pike\, Ellicott City\, MD\, 21042
ORGANIZER;CN="Stone Brewing MD":MAILTO:rich.taylor@stonebrewing.com
END:VEVENT
BEGIN:VEVENT
DTSTART;TZID=America/New_York:20181208T200000
DTEND;TZID=America/New_York:20181208T233000
DTSTAMP:20260423T152040
CREATED:20181205T151339Z
LAST-MODIFIED:20181205T151339Z
UID:4083-1544299200-1544311800@www.warrensbeeradventures.com
SUMMARY:Happy Beer-th Day Frisco
DESCRIPTION:Frisco Tap House is turning 8 and wants you to come out and celebrate! We will have lots of great beer\, like always. We are getting a cake and every beer you drink will enter you into the present raffle. We have lots of great presents for you to win. And live music by Pyscho Mike and Mikey Two Fingers!!! \nBeer List:\n-Burley Oak Citralaxy\n-Burley Oak Strawberry Rhubarb JREAM\n-Firestone Walker Velvet Merkin\n-Founders KBS\n-Lagunitas Willettized
URL:https://www.warrensbeeradventures.com/event/happy-beer-th-day-frisco/
LOCATION:Frisco Tap House\, 6695 Dobbin Rd.\, Columbia\, MD\, 21045\, United States
END:VEVENT
BEGIN:VEVENT
DTSTART;TZID=America/New_York:20181207T160000
DTEND;TZID=America/New_York:20181207T233000
DTSTAMP:20260423T152040
CREATED:20181205T161054Z
LAST-MODIFIED:20181205T161609Z
UID:4111-1544198400-1544225400@www.warrensbeeradventures.com
SUMMARY:Shared Kingdom (Black Flag/Sapwood Cellars Collab) Release
DESCRIPTION:Black Flag and Sapwood Cellars have teamed up to produce a couple hazy pale ales. Can release.
URL:https://www.warrensbeeradventures.com/event/shared-kingdom-black-flag-sapwood-cellars-collab-release/
LOCATION:Black Flag Brewing\, 9315 Snowden River Pkwy\, Ste C\, Columbia\, Maryland\, 21046
END:VEVENT
BEGIN:VEVENT
DTSTART;TZID=America/New_York:20181205T190000
DTEND;TZID=America/New_York:20181205T220000
DTSTAMP:20260423T152040
CREATED:20181205T150621Z
LAST-MODIFIED:20181205T150621Z
UID:4079-1544036400-1544047200@www.warrensbeeradventures.com
SUMMARY:New Belgium Pint Night @ Frisco Tap House
DESCRIPTION:Order a New Belgium beer\, take home a pint glass.
URL:https://www.warrensbeeradventures.com/event/new-belgium-pint-night-frisco-tap-house/
LOCATION:Frisco Tap House\, 6695 Dobbin Rd.\, Columbia\, MD\, 21045\, United States
ATTACH;FMTTYPE=image/png:https://www.warrensbeeradventures.com/wp-content/uploads/2018/12/new-belgium.png
END:VEVENT
BEGIN:VEVENT
DTSTART;TZID=America/New_York:20181205T160000
DTEND;TZID=America/New_York:20181205T220000
DTSTAMP:20260423T152040
CREATED:20181205T154244Z
LAST-MODIFIED:20181205T154244Z
UID:4093-1544025600-1544047200@www.warrensbeeradventures.com
SUMMARY:BYOM @ Black Flag
DESCRIPTION:Bring a mug (within reason) & they’ll fill it up. (It’s a weekly event!)
URL:https://www.warrensbeeradventures.com/event/byom-black-flag-7/
LOCATION:Black Flag Brewing\, 9315 Snowden River Pkwy\, Ste C\, Columbia\, Maryland\, 21046
ATTACH;FMTTYPE=image/jpeg:https://www.warrensbeeradventures.com/wp-content/uploads/2018/11/byom.jpg
END:VEVENT
BEGIN:VEVENT
DTSTART;TZID=America/New_York:20181128T190000
DTEND;TZID=America/New_York:20181128T220000
DTSTAMP:20260423T152040
CREATED:20181107T200730Z
LAST-MODIFIED:20181107T200730Z
UID:3938-1543431600-1543442400@www.warrensbeeradventures.com
SUMMARY:Sierra Nevada Pint Night @ Frisco
DESCRIPTION:Buy a Sierra Nevada beer\, take home a pint glass.
URL:https://www.warrensbeeradventures.com/event/sierra-nevada-pint-night-frisco/
LOCATION:Frisco Tap House\, 6695 Dobbin Rd.\, Columbia\, MD\, 21045\, United States
ATTACH;FMTTYPE=image/jpeg:https://www.warrensbeeradventures.com/wp-content/uploads/2018/11/sierra-nevada-logo-300x225.jpg
END:VEVENT
BEGIN:VEVENT
DTSTART;TZID=America/New_York:20181128T160000
DTEND;TZID=America/New_York:20181128T220000
DTSTAMP:20260423T152040
CREATED:20181107T194632Z
LAST-MODIFIED:20181107T194632Z
UID:3927-1543420800-1543442400@www.warrensbeeradventures.com
SUMMARY:BYOM @ Black Flag
DESCRIPTION:Bring a mug (within reason) & they’ll fill it up. (It’s a weekly event!)
URL:https://www.warrensbeeradventures.com/event/byom-black-flag-6/
LOCATION:Black Flag Brewing\, 9315 Snowden River Pkwy\, Ste C\, Columbia\, Maryland\, 21046
ATTACH;FMTTYPE=image/jpeg:https://www.warrensbeeradventures.com/wp-content/uploads/2018/11/byom.jpg
END:VEVENT
BEGIN:VEVENT
DTSTART;TZID=America/New_York:20181124T110000
DTEND;TZID=America/New_York:20181124T180000
DTSTAMP:20260423T152040
CREATED:20181026T202908Z
LAST-MODIFIED:20181026T202908Z
UID:3857-1543057200-1543082400@www.warrensbeeradventures.com
SUMMARY:The 3rd Annual Columbia Pub Crawl
DESCRIPTION:Columbia\, MD \nThe 3rd Annual Columbia Pub Crawl has been scheduled for November 24th\, 2018. Last year was a great time\, so we’ll try it again this year. \nWe’ll start out at the Ale House Columbia @ 11:00 am for brunch\, then walk to Pub Dog\, Frisco Taphouse\, Sonoma’s\, then finally the 2nd Chance Saloon for dinner. 5 miles of walking\, 45 minutes for just drinking at each place and 1.5 hours at the Ale House & 2nd Chance each. \n2nd Chance Saloon\nIf you’re interested\, let me know at Warren’s Beer Adventures 3rd Annual Columbia Pub Crawl. \nStill not convinced? Check out 2016’s post  or 2017’s post \n  \n  \n 
URL:https://www.warrensbeeradventures.com/event/the-3rd-annual-columbia-pub-crawl/
LOCATION:Maryland
CATEGORIES:pub crawl
END:VEVENT
BEGIN:VEVENT
DTSTART;VALUE=DATE:20181123
DTEND;VALUE=DATE:20181124
DTSTAMP:20260423T152040
CREATED:20181110T175503Z
LAST-MODIFIED:20181110T175503Z
UID:3954-1542931200-1543017599@www.warrensbeeradventures.com
SUMMARY:Black Aged Black Friday
DESCRIPTION:Beer List:\n-Bourbon County Stout 2018\n-Bourbon County Midnight Orange Stout 2018\n-Bourbon County Vanilla Stout 2018\n-Bourbon County Stout 2017\n-Bourbon County Stout 2016\n-Bourbon County Barley Wine 2017\n-Foudre Red\n-Lolita\n-Noel\n*Subject to Change
URL:https://www.warrensbeeradventures.com/event/black-aged-black-friday/
LOCATION:Frisco Tap House\, 6695 Dobbin Rd.\, Columbia\, MD\, 21045\, United States
ATTACH;FMTTYPE=image/png:https://www.warrensbeeradventures.com/wp-content/uploads/2018/11/Goose-Island-Bourbon-Brand-NV-300x289.png
END:VEVENT
BEGIN:VEVENT
DTSTART;TZID=America/New_York:20181121T190000
DTEND;TZID=America/New_York:20181121T220000
DTSTAMP:20260423T152040
CREATED:20181107T200355Z
LAST-MODIFIED:20181107T200355Z
UID:3935-1542826800-1542837600@www.warrensbeeradventures.com
SUMMARY:Founders Pint Night and Grill Raffle @ Frisco
DESCRIPTION:Buy a Founders beer\, take home a pint glass.
URL:https://www.warrensbeeradventures.com/event/founders-pint-night-grill-raffle/
LOCATION:Maryland
ATTACH;FMTTYPE=image/jpeg:https://www.warrensbeeradventures.com/wp-content/uploads/2018/11/Founders_New_Logo-0-300x221.jpg
END:VEVENT
BEGIN:VEVENT
DTSTART;TZID=America/New_York:20181121T160000
DTEND;TZID=America/New_York:20181121T220000
DTSTAMP:20260423T152040
CREATED:20181107T194510Z
LAST-MODIFIED:20181107T194510Z
UID:3925-1542816000-1542837600@www.warrensbeeradventures.com
SUMMARY:BYOM @ Black Flag
DESCRIPTION:Bring a mug (within reason) & they’ll fill it up. (It’s a weekly event!)
URL:https://www.warrensbeeradventures.com/event/byom-black-flag-5/
LOCATION:Black Flag Brewing\, 9315 Snowden River Pkwy\, Ste C\, Columbia\, Maryland\, 21046
ATTACH;FMTTYPE=image/jpeg:https://www.warrensbeeradventures.com/wp-content/uploads/2018/11/byom.jpg
END:VEVENT
BEGIN:VEVENT
DTSTART;TZID=America/New_York:20181117T120000
DTEND;TZID=America/New_York:20181117T150000
DTSTAMP:20260423T152040
CREATED:20181010T164101Z
LAST-MODIFIED:20181010T164101Z
UID:3760-1542456000-1542466800@www.warrensbeeradventures.com
SUMMARY:Beginner Brewing Class @ MDHB
DESCRIPTION:Terry Hosford of Maryland Homebrew teaches beginners how to brew all -grain beer.
URL:https://www.warrensbeeradventures.com/event/beginner-brewing-class-mdhb-2/
LOCATION:Maryland Homebrew\, 6770 Oak Hall Lane\, Suite #108\, Columbia\, MD\, 21045
END:VEVENT
BEGIN:VEVENT
DTSTART;TZID=America/New_York:20181117T113000
DTEND;TZID=America/New_York:20181117T173000
DTSTAMP:20260423T152040
CREATED:20181107T202407Z
LAST-MODIFIED:20181107T203704Z
UID:3942-1542454200-1542475800@www.warrensbeeradventures.com
SUMMARY:MD Brewery Tours
DESCRIPTION:Manor Hill\, Ellicott Mills\, Hysteria and Jailbreak bus tour.
URL:https://www.warrensbeeradventures.com/event/md-brewery-tours/
LOCATION:Maryland Brewery Tours\, PO Box 718\, Columbia\, MD
END:VEVENT
BEGIN:VEVENT
DTSTART;TZID=America/New_York:20181114T190000
DTEND;TZID=America/New_York:20181114T220000
DTSTAMP:20260423T152040
CREATED:20181107T200008Z
LAST-MODIFIED:20181107T200008Z
UID:3932-1542222000-1542232800@www.warrensbeeradventures.com
SUMMARY:Flying Dog Pint Night @ Frisco
DESCRIPTION:Order a Flying Dog beer\, get a free pint glass.
URL:https://www.warrensbeeradventures.com/event/flying-dog-pint-night-frisco/
LOCATION:Frisco Tap House\, 6695 Dobbin Rd.\, Columbia\, MD\, 21045\, United States
ATTACH;FMTTYPE=image/jpeg:https://www.warrensbeeradventures.com/wp-content/uploads/2018/11/flying-dog-logo-300x198.jpeg
END:VEVENT
BEGIN:VEVENT
DTSTART;TZID=America/New_York:20181114T160000
DTEND;TZID=America/New_York:20181114T220000
DTSTAMP:20260423T152040
CREATED:20181107T194115Z
LAST-MODIFIED:20181107T194115Z
UID:3922-1542211200-1542232800@www.warrensbeeradventures.com
SUMMARY:BYOM @ Black Flag
DESCRIPTION:Bring a mug (within reason) & they’ll fill it up. (It’s a weekly event!)
URL:https://www.warrensbeeradventures.com/event/byom-black-flag-4/
LOCATION:Black Flag Brewing\, 9315 Snowden River Pkwy\, Ste C\, Columbia\, Maryland\, 21046
ATTACH;FMTTYPE=image/jpeg:https://www.warrensbeeradventures.com/wp-content/uploads/2018/11/byom.jpg
END:VEVENT
BEGIN:VEVENT
DTSTART;TZID=America/New_York:20181107T190000
DTEND;TZID=America/New_York:20181107T220000
DTSTAMP:20260423T152040
CREATED:20181107T195418Z
LAST-MODIFIED:20181107T195418Z
UID:3929-1541617200-1541628000@www.warrensbeeradventures.com
SUMMARY:Abita Pint Night @ Frisco
DESCRIPTION:Order an Abita beer\, get a free pint glass.
URL:https://www.warrensbeeradventures.com/event/abita-pint-night-frisco/
LOCATION:Frisco Tap House\, 6695 Dobbin Rd.\, Columbia\, MD\, 21045\, United States
ATTACH;FMTTYPE=image/jpeg:https://www.warrensbeeradventures.com/wp-content/uploads/2018/11/abita.jpg
END:VEVENT
BEGIN:VEVENT
DTSTART;TZID=America/New_York:20181107T160000
DTEND;TZID=America/New_York:20181107T220000
DTSTAMP:20260423T152040
CREATED:20181107T193532Z
LAST-MODIFIED:20181107T194224Z
UID:3920-1541606400-1541628000@www.warrensbeeradventures.com
SUMMARY:BYOM @ Black Flag
DESCRIPTION:Bring a mug (within reason) & they’ll fill it up. (It’s a weekly event!)
URL:https://www.warrensbeeradventures.com/event/byom-black-flag-3/
LOCATION:Black Flag Brewing\, 9315 Snowden River Pkwy\, Ste C\, Columbia\, Maryland\, 21046
ATTACH;FMTTYPE=image/jpeg:https://www.warrensbeeradventures.com/wp-content/uploads/2018/11/byom.jpg
END:VEVENT
BEGIN:VEVENT
DTSTART;TZID=America/New_York:20181031T190000
DTEND;TZID=America/New_York:20181031T220000
DTSTAMP:20260423T152040
CREATED:20181010T162836Z
LAST-MODIFIED:20181010T164257Z
UID:3754-1541012400-1541023200@www.warrensbeeradventures.com
SUMMARY:Harpoon Pint Night @ Frisco
DESCRIPTION:Happy Harpoon Halloween!
URL:https://www.warrensbeeradventures.com/event/harpoon-pint-night-frisco/
LOCATION:Frisco Tap House\, 6695 Dobbin Rd.\, Columbia\, MD\, 21045\, United States
END:VEVENT
BEGIN:VEVENT
DTSTART;TZID=America/New_York:20181031T160000
DTEND;TZID=America/New_York:20181031T220000
DTSTAMP:20260423T152040
CREATED:20181010T173510Z
LAST-MODIFIED:20181010T173510Z
UID:3777-1541001600-1541023200@www.warrensbeeradventures.com
SUMMARY:BYOM @ Black Flag
DESCRIPTION:Bring a mug (within reason) & they’ll fill it up. (It’s a weekly event!)
URL:https://www.warrensbeeradventures.com/event/byom-black-flag-2/
LOCATION:Black Flag Brewing\, 9315 Snowden River Pkwy\, Ste C\, Columbia\, Maryland\, 21046
END:VEVENT
BEGIN:VEVENT
DTSTART;TZID=America/New_York:20181026T190000
DTEND;TZID=America/New_York:20181026T210000
DTSTAMP:20260423T152040
CREATED:20181010T161857Z
LAST-MODIFIED:20181010T161857Z
UID:3744-1540580400-1540587600@www.warrensbeeradventures.com
SUMMARY:Craft Beer Discovery @HCC
DESCRIPTION:Nick Nichols teaches to those beer lovers already embracing the craft beer revolution. Discovery why beer tastes the way it does. \nThis is a non-credit Howard Community College class
URL:https://www.warrensbeeradventures.com/event/craft-beer-discovery-hcc/
LOCATION:Howard Community College\, Gateway Campus\, Columbia\, Maryland
END:VEVENT
BEGIN:VEVENT
DTSTART;TZID=America/New_York:20181024T190000
DTEND;TZID=America/New_York:20181024T220000
DTSTAMP:20260423T152040
CREATED:20181010T162547Z
LAST-MODIFIED:20181010T162547Z
UID:3751-1540407600-1540418400@www.warrensbeeradventures.com
SUMMARY:21st Amendment Pint Night @ Frisco
DESCRIPTION:Free pint glass with brewery beer purchase.
URL:https://www.warrensbeeradventures.com/event/21st-amendment-pint-night-frisco/
LOCATION:Frisco Tap House\, 6695 Dobbin Rd.\, Columbia\, MD\, 21045\, United States
END:VEVENT
BEGIN:VEVENT
DTSTART;TZID=America/New_York:20181024T160000
DTEND;TZID=America/New_York:20181024T220000
DTSTAMP:20260423T152040
CREATED:20181010T173203Z
LAST-MODIFIED:20181010T173203Z
UID:3774-1540396800-1540418400@www.warrensbeeradventures.com
SUMMARY:BYOM @ Black Flag
DESCRIPTION:Bring a mug (within reason) & they’ll fill it up. \n(It’s a weekly event!)
URL:https://www.warrensbeeradventures.com/event/byom-black-flag/
LOCATION:Black Flag Brewing\, 9315 Snowden River Pkwy\, Ste C\, Columbia\, Maryland\, 21046
END:VEVENT
BEGIN:VEVENT
DTSTART;TZID=America/New_York:20181020T130000
DTEND;TZID=America/New_York:20181020T170000
DTSTAMP:20260423T152040
CREATED:20181010T174409Z
LAST-MODIFIED:20181010T174409Z
UID:3779-1540040400-1540054800@www.warrensbeeradventures.com
SUMMARY:Harvest at the Hill @ Manor Hill Farm
DESCRIPTION:Farm tour of the Manor Hill Farm. Enjoy live music\, local fresh food\, and beer from the brewery.
URL:https://www.warrensbeeradventures.com/event/harvest-at-the-hill-manor-hill-farm/
LOCATION:Manor Hill Brewing\, 4411 Manor Lane\, Ellicott City\, Maryland\, 21042
END:VEVENT
BEGIN:VEVENT
DTSTART;TZID=America/New_York:20181020T120000
DTEND;TZID=America/New_York:20181020T150000
DTSTAMP:20260423T152040
CREATED:20181010T163900Z
LAST-MODIFIED:20181010T163900Z
UID:3758-1540036800-1540047600@www.warrensbeeradventures.com
SUMMARY:Beginner Brewing Class @ MDHB
DESCRIPTION:Terry Hosford of Maryland Homebrew teaches beginners how to brew all -grain beer.
URL:https://www.warrensbeeradventures.com/event/beginner-brewing-class-mdhb/
LOCATION:Maryland Homebrew\, 6770 Oak Hall Lane\, Suite #108\, Columbia\, MD\, 21045
END:VEVENT
BEGIN:VEVENT
DTSTART;TZID=America/New_York:20181020T113000
DTEND;TZID=America/New_York:20181020T170000
DTSTAMP:20260423T152040
CREATED:20181010T170648Z
LAST-MODIFIED:20181010T170648Z
UID:3762-1540035000-1540054800@www.warrensbeeradventures.com
SUMMARY:4 HoCo Breweries with MD Brewery Tours
DESCRIPTION:Visit Howard County breweries: Reckless\, Hysteria\, Jailbreak\, and Ellicott Mills\, without the hassle of driving. \n  \nPick up and drop off at the Columbia Sheraton (10207 Wincopin Cir\, Columbia\, MD 21044).
URL:https://www.warrensbeeradventures.com/event/4-hoco-breweries-with-md-brewery-tours/
LOCATION:Maryland Brewery Tours\, PO Box 718\, Columbia\, MD
END:VEVENT
END:VCALENDAR