BEGIN:VCALENDAR
VERSION:2.0
PRODID:-//Warren&#039;s Beer Adventures - ECPv6.15.20//NONSGML v1.0//EN
CALSCALE:GREGORIAN
METHOD:PUBLISH
X-WR-CALNAME:Warren&#039;s Beer Adventures
X-ORIGINAL-URL:https://www.warrensbeeradventures.com
X-WR-CALDESC:Events for Warren&#039;s Beer Adventures
REFRESH-INTERVAL;VALUE=DURATION:PT1H
X-Robots-Tag:noindex
X-PUBLISHED-TTL:PT1H
BEGIN:VTIMEZONE
TZID:America/New_York
BEGIN:DAYLIGHT
TZOFFSETFROM:-0500
TZOFFSETTO:-0400
TZNAME:EDT
DTSTART:20170312T070000
END:DAYLIGHT
BEGIN:STANDARD
TZOFFSETFROM:-0400
TZOFFSETTO:-0500
TZNAME:EST
DTSTART:20171105T060000
END:STANDARD
BEGIN:DAYLIGHT
TZOFFSETFROM:-0500
TZOFFSETTO:-0400
TZNAME:EDT
DTSTART:20180311T070000
END:DAYLIGHT
BEGIN:STANDARD
TZOFFSETFROM:-0400
TZOFFSETTO:-0500
TZNAME:EST
DTSTART:20181104T060000
END:STANDARD
BEGIN:DAYLIGHT
TZOFFSETFROM:-0500
TZOFFSETTO:-0400
TZNAME:EDT
DTSTART:20190310T070000
END:DAYLIGHT
BEGIN:STANDARD
TZOFFSETFROM:-0400
TZOFFSETTO:-0500
TZNAME:EST
DTSTART:20191103T060000
END:STANDARD
BEGIN:DAYLIGHT
TZOFFSETFROM:-0500
TZOFFSETTO:-0400
TZNAME:EDT
DTSTART:20200308T070000
END:DAYLIGHT
BEGIN:STANDARD
TZOFFSETFROM:-0400
TZOFFSETTO:-0500
TZNAME:EST
DTSTART:20201101T060000
END:STANDARD
END:VTIMEZONE
BEGIN:VEVENT
DTSTART;TZID=America/New_York:20181223T123000
DTEND;TZID=America/New_York:20181223T190000
DTSTAMP:20260423T202200
CREATED:20181209T221912Z
LAST-MODIFIED:20181209T221912Z
UID:4166-1545568200-1545591600@www.warrensbeeradventures.com
SUMMARY:School Lunch Debt Fundraiser - Brunch for Lunch @ Black Flag
DESCRIPTION:A holiday fundraising event for Howard County Public Schools and their lunch debt.
URL:https://www.warrensbeeradventures.com/event/school-lunch-debt-fundraiser-brunch-for-lunch-black-flag/
LOCATION:Black Flag Brewing\, 9315 Snowden River Pkwy\, Ste C\, Columbia\, Maryland\, 21046
END:VEVENT
BEGIN:VEVENT
DTSTART;TZID=America/New_York:20181226T160000
DTEND;TZID=America/New_York:20181226T220000
DTSTAMP:20260423T202200
CREATED:20181205T154824Z
LAST-MODIFIED:20181205T154824Z
UID:4099-1545840000-1545861600@www.warrensbeeradventures.com
SUMMARY:BYOM @ Black Flag
DESCRIPTION:Bring a mug (within reason) & they’ll fill it up. (It’s a weekly event!)
URL:https://www.warrensbeeradventures.com/event/byom-black-flag-10/
ATTACH;FMTTYPE=image/jpeg:https://www.warrensbeeradventures.com/wp-content/uploads/2018/11/byom.jpg
END:VEVENT
BEGIN:VEVENT
DTSTART;TZID=America/New_York:20181226T190000
DTEND;TZID=America/New_York:20181226T220000
DTSTAMP:20260423T202200
CREATED:20181205T152733Z
LAST-MODIFIED:20181205T152733Z
UID:4089-1545850800-1545861600@www.warrensbeeradventures.com
SUMMARY:Terrapin Cooler Raffle and Pint Night @ Frisco
DESCRIPTION:Buy a Terrapin beer\, get a free pint glass
URL:https://www.warrensbeeradventures.com/event/terrapin-cooler-raffle-and-pint-night-frisco/
LOCATION:Frisco Tap House\, 6695 Dobbin Rd.\, Columbia\, MD\, 21045\, United States
CATEGORIES:pint night
ATTACH;FMTTYPE=image/jpeg:https://www.warrensbeeradventures.com/wp-content/uploads/2018/12/Terrapin-Logo-Web-300x157.jpg
END:VEVENT
BEGIN:VEVENT
DTSTART;TZID=America/New_York:20190102T160000
DTEND;TZID=America/New_York:20190102T220000
DTSTAMP:20260423T202200
CREATED:20181205T155043Z
LAST-MODIFIED:20181205T155043Z
UID:4101-1546444800-1546466400@www.warrensbeeradventures.com
SUMMARY:BYOM @ Black Flag
DESCRIPTION:Bring a mug (within reason) & they’ll fill it up. (It’s a weekly event!)
URL:https://www.warrensbeeradventures.com/event/byom-black-flag-11/
LOCATION:Black Flag Brewing\, 9315 Snowden River Pkwy\, Ste C\, Columbia\, Maryland\, 21046
ATTACH;FMTTYPE=image/jpeg:https://www.warrensbeeradventures.com/wp-content/uploads/2018/11/byom.jpg
END:VEVENT
BEGIN:VEVENT
DTSTART;TZID=America/New_York:20190109T160000
DTEND;TZID=America/New_York:20190109T220000
DTSTAMP:20260423T202200
CREATED:20181205T155203Z
LAST-MODIFIED:20181205T155203Z
UID:4103-1547049600-1547071200@www.warrensbeeradventures.com
SUMMARY:BYOM @ Black Flag
DESCRIPTION:Bring a mug (within reason) & they’ll fill it up. (It’s a weekly event!)
URL:https://www.warrensbeeradventures.com/event/byom-black-flag-12/
ATTACH;FMTTYPE=image/jpeg:https://www.warrensbeeradventures.com/wp-content/uploads/2018/11/byom.jpg
END:VEVENT
BEGIN:VEVENT
DTSTART;TZID=America/New_York:20190116T160000
DTEND;TZID=America/New_York:20190116T220000
DTSTAMP:20260423T202200
CREATED:20181205T155345Z
LAST-MODIFIED:20181205T155345Z
UID:4105-1547654400-1547676000@www.warrensbeeradventures.com
SUMMARY:BYOM @ Black Flag
DESCRIPTION:Bring a mug (within reason) & they’ll fill it up. (It’s a weekly event!)
URL:https://www.warrensbeeradventures.com/event/byom-black-flag-13/
LOCATION:Black Flag Brewing\, 9315 Snowden River Pkwy\, Ste C\, Columbia\, Maryland\, 21046
ATTACH;FMTTYPE=image/jpeg:https://www.warrensbeeradventures.com/wp-content/uploads/2018/11/byom.jpg
END:VEVENT
BEGIN:VEVENT
DTSTART;TZID=America/New_York:20190119T113000
DTEND;TZID=America/New_York:20190119T173000
DTSTAMP:20260423T202200
CREATED:20181209T230623Z
LAST-MODIFIED:20181209T230623Z
UID:4186-1547897400-1547919000@www.warrensbeeradventures.com
SUMMARY:HoCo 4-Brewery Bus Tour
DESCRIPTION:Check out Maryland’s finest breweries without the hassle of driving and with the added perks of behind the scenes tours\, a pint of your choice at each stop\, free swag\, good times\, and more! \nThis tour will include the following breweries:\n– Manor Hill Brewing\n– Sapwood Cellars\n– Jailbreak Brewing Company\n– Ellicott Mills Brewing \nPick up and drop off will be at the Columbia Sheraton (10207 Wincopin Cir\, Columbia\, MD 21044)\, where there is free parking. Be sure to ask about our discounted room rates.
URL:https://www.warrensbeeradventures.com/event/hoco-4-brewery-bus-tour/
LOCATION:Maryland Brewery Tours\, PO Box 718\, Columbia\, MD
ATTACH;FMTTYPE=image/jpeg:https://www.warrensbeeradventures.com/wp-content/uploads/2018/11/MD-Brewery-Tour.jpg
END:VEVENT
BEGIN:VEVENT
DTSTART;TZID=America/New_York:20190123T160000
DTEND;TZID=America/New_York:20190123T220000
DTSTAMP:20260423T202200
CREATED:20181205T155527Z
LAST-MODIFIED:20181205T155527Z
UID:4107-1548259200-1548280800@www.warrensbeeradventures.com
SUMMARY:BYOM @ Black Flag
DESCRIPTION:Bring a mug (within reason) & they’ll fill it up. (It’s a weekly event!)
URL:https://www.warrensbeeradventures.com/event/byom-black-flag-14/
LOCATION:Black Flag Brewing\, 9315 Snowden River Pkwy\, Ste C\, Columbia\, Maryland\, 21046
ATTACH;FMTTYPE=image/jpeg:https://www.warrensbeeradventures.com/wp-content/uploads/2018/11/byom.jpg
END:VEVENT
BEGIN:VEVENT
DTSTART;TZID=America/New_York:20190130T160000
DTEND;TZID=America/New_York:20190130T220000
DTSTAMP:20260423T202200
CREATED:20181205T155657Z
LAST-MODIFIED:20181205T155657Z
UID:4109-1548864000-1548885600@www.warrensbeeradventures.com
SUMMARY:BYOM @ Black Flag
DESCRIPTION:Bring a mug (within reason) & they’ll fill it up. (It’s a weekly event!)
URL:https://www.warrensbeeradventures.com/event/byom-black-flag-15/
LOCATION:Black Flag Brewing\, 9315 Snowden River Pkwy\, Ste C\, Columbia\, Maryland\, 21046
ATTACH;FMTTYPE=image/jpeg:https://www.warrensbeeradventures.com/wp-content/uploads/2018/11/byom.jpg
END:VEVENT
BEGIN:VEVENT
DTSTART;TZID=America/New_York:20190215T180000
DTEND;TZID=America/New_York:20190215T220000
DTSTAMP:20260423T202200
CREATED:20181209T225812Z
LAST-MODIFIED:20181209T225812Z
UID:4182-1550253600-1550268000@www.warrensbeeradventures.com
SUMMARY:Love Thy Beer: Winter Warmer Showcase
DESCRIPTION:Join the Brewers Association of Maryland at Love Thy Beer\, the signature event of FeBREWary: Maryland Craft Beer Lover’s Month. \nLove Thy Beer is a must-attend event for the ultimate craft beer enthusiast\, featuring exclusive beer releases you won’t find at your local craft beer store. \nIn the true spirit of FeBREWary\, attendees will get the opportunity to chat with the experts behind Maryland beer in an intimate setting over seasonal ales. Think: stouts\, porters\, winter seasonal\, sours & anything out of the barrel! \nThe event will also feature a selection of specialty beers\, brewed specifically for the month of FeBREWary\, available to all attendees.
URL:https://www.warrensbeeradventures.com/event/love-thy-beer-winter-warmer-showcase/
LOCATION:Silver Spring Civic Building\, 1 Veterans Place\, Silver Spring\, MD\, 20910
END:VEVENT
BEGIN:VEVENT
DTSTART;TZID=America/New_York:20190222T170000
DTEND;TZID=America/New_York:20190222T190000
DTSTAMP:20260423T202200
CREATED:20190222T190622Z
LAST-MODIFIED:20190222T190622Z
UID:4463-1550854800-1550862000@www.warrensbeeradventures.com
SUMMARY:Wicked Weed Funk Family Fiesta @Frisco
DESCRIPTION:Frisco Tap House has been invited into the Wicked Weed Funk Family.  We will be able to bring you very limited beers that only go out to very select accounts like us.  These limited sours won’t last long\, so don’t miss out. \nBeer List: \n-Bombadille \n-Chocolate Covered Black Angel \n-Farmhouse Cider \n-Khatta Masalla \n-Medora \n-Oaxacan \n-Silencio \n-Sombra
URL:https://www.warrensbeeradventures.com/event/wicked-weed-funk-family-fiesta-frisco/
LOCATION:Frisco Tap House\, 6695 Dobbin Rd.\, Columbia\, MD\, 21045\, United States
CATEGORIES:release
END:VEVENT
END:VCALENDAR