BEGIN:VCALENDAR
VERSION:2.0
PRODID:-//Warren&#039;s Beer Adventures - ECPv6.15.20//NONSGML v1.0//EN
CALSCALE:GREGORIAN
METHOD:PUBLISH
X-WR-CALNAME:Warren&#039;s Beer Adventures
X-ORIGINAL-URL:https://www.warrensbeeradventures.com
X-WR-CALDESC:Events for Warren&#039;s Beer Adventures
REFRESH-INTERVAL;VALUE=DURATION:PT1H
X-Robots-Tag:noindex
X-PUBLISHED-TTL:PT1H
BEGIN:VTIMEZONE
TZID:America/New_York
BEGIN:DAYLIGHT
TZOFFSETFROM:-0500
TZOFFSETTO:-0400
TZNAME:EDT
DTSTART:20170312T070000
END:DAYLIGHT
BEGIN:STANDARD
TZOFFSETFROM:-0400
TZOFFSETTO:-0500
TZNAME:EST
DTSTART:20171105T060000
END:STANDARD
BEGIN:DAYLIGHT
TZOFFSETFROM:-0500
TZOFFSETTO:-0400
TZNAME:EDT
DTSTART:20180311T070000
END:DAYLIGHT
BEGIN:STANDARD
TZOFFSETFROM:-0400
TZOFFSETTO:-0500
TZNAME:EST
DTSTART:20181104T060000
END:STANDARD
BEGIN:DAYLIGHT
TZOFFSETFROM:-0500
TZOFFSETTO:-0400
TZNAME:EDT
DTSTART:20190310T070000
END:DAYLIGHT
BEGIN:STANDARD
TZOFFSETFROM:-0400
TZOFFSETTO:-0500
TZNAME:EST
DTSTART:20191103T060000
END:STANDARD
END:VTIMEZONE
BEGIN:VEVENT
DTSTART;TZID=America/New_York:20181010T190000
DTEND;TZID=America/New_York:20181010T220000
DTSTAMP:20260423T233449
CREATED:20180930T030643Z
LAST-MODIFIED:20180930T030643Z
UID:3685-1539198000-1539208800@www.warrensbeeradventures.com
SUMMARY:Bell's Pint Night at Frisco Tap House
DESCRIPTION:Buy a Bell’s beer\, get a free Bell’s pint glass.
URL:https://www.warrensbeeradventures.com/event/bells-pint-night-at-frisco-tap-house/
LOCATION:Frisco Tap House\, 6695 Dobbin Rd.\, Columbia\, MD\, 21045\, United States
END:VEVENT
BEGIN:VEVENT
DTSTART;TZID=America/New_York:20181010T160000
DTEND;TZID=America/New_York:20181010T220000
DTSTAMP:20260423T233449
CREATED:20181010T172117Z
LAST-MODIFIED:20181010T172117Z
UID:3766-1539187200-1539208800@www.warrensbeeradventures.com
SUMMARY:Bring Your Own Mug @ Black Flag
DESCRIPTION:Bring a mug (within reason) & they’ll fill it up. \n(It’s a weekly event!)
URL:https://www.warrensbeeradventures.com/event/bring-your-own-mug-black-flag/
LOCATION:Black Flag Brewing\, 9315 Snowden River Pkwy\, Ste C\, Columbia\, Maryland\, 21046
END:VEVENT
BEGIN:VEVENT
DTSTART;TZID=America/New_York:20181004T160000
DTEND;TZID=America/New_York:20181004T170000
DTSTAMP:20260423T233449
CREATED:20180929T021249Z
LAST-MODIFIED:20180929T021249Z
UID:3675-1538668800-1538672400@www.warrensbeeradventures.com
SUMMARY:Sapwood Cellars Ribbon Cutting
DESCRIPTION:This is the formal opening of Sapwood Cellars. Beer geeks\, Michael Tonsmeire and Scott Janish\, will finally open officially.
URL:https://www.warrensbeeradventures.com/event/sapwood-cellars-ribbon-cutting/
LOCATION:Sapwood Cellars\, 8980 Rte. 108\, Columbia\, MD\, 21045
END:VEVENT
BEGIN:VEVENT
DTSTART;TZID=America/New_York:20181003T190000
DTEND;TZID=America/New_York:20181003T220000
DTSTAMP:20260423T233449
CREATED:20180925T215908Z
LAST-MODIFIED:20180925T215908Z
UID:3642-1538593200-1538604000@www.warrensbeeradventures.com
SUMMARY:PUNKTOBERFEST 7 @ Frisco
DESCRIPTION:It’s fall and you know what that means — PUNKTOBERFEST at Frisco Tap House. Enjoy many Pumpkin and Oktoberfest beers in this annual event.
URL:https://www.warrensbeeradventures.com/event/punktoberfest-7-frisco/
LOCATION:Frisco Tap House\, 6695 Dobbin Rd.\, Columbia\, MD\, 21045\, United States
END:VEVENT
BEGIN:VEVENT
DTSTART;TZID=America/New_York:20181001T160000
DTEND;TZID=America/New_York:20181001T220000
DTSTAMP:20260423T233449
CREATED:20180930T030206Z
LAST-MODIFIED:20180930T030206Z
UID:3681-1538409600-1538431200@www.warrensbeeradventures.com
SUMMARY:Day of the Trash Panda!
DESCRIPTION:12 Different Trash Pandas! Special release cask Pandas! Monday Night Football!
URL:https://www.warrensbeeradventures.com/event/day-of-the-trash-panda/
LOCATION:Hysteria Brewing Company\, 9570 Berger Rd.\, Columbia\, MD\, 21046
END:VEVENT
BEGIN:VEVENT
DTSTART;TZID=America/New_York:20180929T120000
DTEND;TZID=America/New_York:20180929T220000
DTSTAMP:20260423T233449
CREATED:20180925T211923Z
LAST-MODIFIED:20180925T215027Z
UID:3631-1538222400-1538258400@www.warrensbeeradventures.com
SUMMARY:Sapwood Cellars Grand Opening
DESCRIPTION:We welcome Sapwood Cellars\, Howard County and Columbia’s newest brewery. It’s open to the public. \n 
URL:https://www.warrensbeeradventures.com/event/sapwood-cellars-grand-opening/
LOCATION:Sapwood Cellars\, 8980 Rte. 108\, Columbia\, MD\, 21045
END:VEVENT
BEGIN:VEVENT
DTSTART;TZID=America/New_York:20180929T120000
DTEND;TZID=America/New_York:20180929T210000
DTSTAMP:20260423T233449
CREATED:20180925T224732Z
LAST-MODIFIED:20180925T224732Z
UID:3647-1538222400-1538254800@www.warrensbeeradventures.com
SUMMARY:Hops & Harvest Festival
DESCRIPTION:The Hops & Harvest Festival celebrates fall with beer\, wine\, and spirits as well as food and entertainment. There will be two sessions: Midday from 12-4pm and Twilight from 5-9pm.
URL:https://www.warrensbeeradventures.com/event/hops-harvest-festival/
LOCATION:Columbia Lakefront\, 10221 Wincopin Circle\, Columbia\, MD\, 21044
END:VEVENT
BEGIN:VEVENT
DTSTART;TZID=America/New_York:20180926T190000
DTEND;TZID=America/New_York:20180926T220000
DTSTAMP:20260423T233449
CREATED:20180925T214548Z
LAST-MODIFIED:20180925T214548Z
UID:3640-1537988400-1537999200@www.warrensbeeradventures.com
SUMMARY:Lagunitas Pint Night @ Frisco
DESCRIPTION:Lagunitas Brewing of Petaluma\, California comes to Frisco Tap House in Columbia. Buy a Lagunitas beer and take home a free pint glass.
URL:https://www.warrensbeeradventures.com/event/lagunitas-pint-night-frisco/
LOCATION:Frisco Tap House\, 6695 Dobbin Rd.\, Columbia\, MD\, 21045\, United States
END:VEVENT
END:VCALENDAR