BEGIN:VCALENDAR
VERSION:2.0
PRODID:-//Warren&#039;s Beer Adventures - ECPv6.15.20//NONSGML v1.0//EN
CALSCALE:GREGORIAN
METHOD:PUBLISH
X-ORIGINAL-URL:https://www.warrensbeeradventures.com
X-WR-CALDESC:Events for Warren&#039;s Beer Adventures
REFRESH-INTERVAL;VALUE=DURATION:PT1H
X-Robots-Tag:noindex
X-PUBLISHED-TTL:PT1H
BEGIN:VTIMEZONE
TZID:America/New_York
BEGIN:DAYLIGHT
TZOFFSETFROM:-0500
TZOFFSETTO:-0400
TZNAME:EDT
DTSTART:20170312T070000
END:DAYLIGHT
BEGIN:STANDARD
TZOFFSETFROM:-0400
TZOFFSETTO:-0500
TZNAME:EST
DTSTART:20171105T060000
END:STANDARD
BEGIN:DAYLIGHT
TZOFFSETFROM:-0500
TZOFFSETTO:-0400
TZNAME:EDT
DTSTART:20180311T070000
END:DAYLIGHT
BEGIN:STANDARD
TZOFFSETFROM:-0400
TZOFFSETTO:-0500
TZNAME:EST
DTSTART:20181104T060000
END:STANDARD
BEGIN:DAYLIGHT
TZOFFSETFROM:-0500
TZOFFSETTO:-0400
TZNAME:EDT
DTSTART:20190310T070000
END:DAYLIGHT
BEGIN:STANDARD
TZOFFSETFROM:-0400
TZOFFSETTO:-0500
TZNAME:EST
DTSTART:20191103T060000
END:STANDARD
END:VTIMEZONE
BEGIN:VEVENT
DTSTART;TZID=America/New_York:20181124T110000
DTEND;TZID=America/New_York:20181124T180000
DTSTAMP:20260423T152039
CREATED:20181026T202908Z
LAST-MODIFIED:20181026T202908Z
UID:3857-1543057200-1543082400@www.warrensbeeradventures.com
SUMMARY:The 3rd Annual Columbia Pub Crawl
DESCRIPTION:Columbia\, MD \nThe 3rd Annual Columbia Pub Crawl has been scheduled for November 24th\, 2018. Last year was a great time\, so we’ll try it again this year. \nWe’ll start out at the Ale House Columbia @ 11:00 am for brunch\, then walk to Pub Dog\, Frisco Taphouse\, Sonoma’s\, then finally the 2nd Chance Saloon for dinner. 5 miles of walking\, 45 minutes for just drinking at each place and 1.5 hours at the Ale House & 2nd Chance each. \n2nd Chance Saloon\nIf you’re interested\, let me know at Warren’s Beer Adventures 3rd Annual Columbia Pub Crawl. \nStill not convinced? Check out 2016’s post  or 2017’s post \n  \n  \n 
URL:https://www.warrensbeeradventures.com/event/the-3rd-annual-columbia-pub-crawl/
CATEGORIES:pub crawl
END:VEVENT
END:VCALENDAR