BEGIN:VCALENDAR
VERSION:2.0
PRODID:-//Warren&#039;s Beer Adventures - ECPv6.15.20//NONSGML v1.0//EN
CALSCALE:GREGORIAN
METHOD:PUBLISH
X-ORIGINAL-URL:https://www.warrensbeeradventures.com
X-WR-CALDESC:Events for Warren&#039;s Beer Adventures
REFRESH-INTERVAL;VALUE=DURATION:PT1H
X-Robots-Tag:noindex
X-PUBLISHED-TTL:PT1H
BEGIN:VTIMEZONE
TZID:America/New_York
BEGIN:DAYLIGHT
TZOFFSETFROM:-0500
TZOFFSETTO:-0400
TZNAME:EDT
DTSTART:20170312T070000
END:DAYLIGHT
BEGIN:STANDARD
TZOFFSETFROM:-0400
TZOFFSETTO:-0500
TZNAME:EST
DTSTART:20171105T060000
END:STANDARD
BEGIN:DAYLIGHT
TZOFFSETFROM:-0500
TZOFFSETTO:-0400
TZNAME:EDT
DTSTART:20180311T070000
END:DAYLIGHT
BEGIN:STANDARD
TZOFFSETFROM:-0400
TZOFFSETTO:-0500
TZNAME:EST
DTSTART:20181104T060000
END:STANDARD
BEGIN:DAYLIGHT
TZOFFSETFROM:-0500
TZOFFSETTO:-0400
TZNAME:EDT
DTSTART:20190310T070000
END:DAYLIGHT
BEGIN:STANDARD
TZOFFSETFROM:-0400
TZOFFSETTO:-0500
TZNAME:EST
DTSTART:20191103T060000
END:STANDARD
END:VTIMEZONE
BEGIN:VEVENT
DTSTART;TZID=America/New_York:20181226T190000
DTEND;TZID=America/New_York:20181226T220000
DTSTAMP:20260423T170550
CREATED:20181205T152733Z
LAST-MODIFIED:20181205T152733Z
UID:4089-1545850800-1545861600@www.warrensbeeradventures.com
SUMMARY:Terrapin Cooler Raffle and Pint Night @ Frisco
DESCRIPTION:Buy a Terrapin beer\, get a free pint glass
URL:https://www.warrensbeeradventures.com/event/terrapin-cooler-raffle-and-pint-night-frisco/
LOCATION:Frisco Tap House\, 6695 Dobbin Rd.\, Columbia\, MD\, 21045\, United States
CATEGORIES:pint night
ATTACH;FMTTYPE=image/jpeg:https://www.warrensbeeradventures.com/wp-content/uploads/2018/12/Terrapin-Logo-Web-300x157.jpg
END:VEVENT
BEGIN:VEVENT
DTSTART;TZID=America/New_York:20181219T190000
DTEND;TZID=America/New_York:20181219T220000
DTSTAMP:20260423T170550
CREATED:20181205T152149Z
LAST-MODIFIED:20181205T152909Z
UID:4087-1545246000-1545256800@www.warrensbeeradventures.com
SUMMARY:Troegs Mad Elf Blending and Pint Night @ Frisco
DESCRIPTION:Buy a Troegs\, get a pint glass
URL:https://www.warrensbeeradventures.com/event/troegs-mad-elf-blending-and-pint-night-frisco/
LOCATION:Frisco Tap House\, 6695 Dobbin Rd.\, Columbia\, MD\, 21045\, United States
CATEGORIES:pint night
ATTACH;FMTTYPE=image/jpeg:https://www.warrensbeeradventures.com/wp-content/uploads/2018/12/troegs_logo_color-page-0.jpg.694x694_default-300x300.jpg
END:VEVENT
END:VCALENDAR