BEGIN:VCALENDAR
VERSION:2.0
PRODID:-//Warren&#039;s Beer Adventures - ECPv6.15.20//NONSGML v1.0//EN
CALSCALE:GREGORIAN
METHOD:PUBLISH
X-ORIGINAL-URL:https://www.warrensbeeradventures.com
X-WR-CALDESC:Events for Warren&#039;s Beer Adventures
REFRESH-INTERVAL;VALUE=DURATION:PT1H
X-Robots-Tag:noindex
X-PUBLISHED-TTL:PT1H
BEGIN:VTIMEZONE
TZID:America/New_York
BEGIN:DAYLIGHT
TZOFFSETFROM:-0500
TZOFFSETTO:-0400
TZNAME:EDT
DTSTART:20170312T070000
END:DAYLIGHT
BEGIN:STANDARD
TZOFFSETFROM:-0400
TZOFFSETTO:-0500
TZNAME:EST
DTSTART:20171105T060000
END:STANDARD
BEGIN:DAYLIGHT
TZOFFSETFROM:-0500
TZOFFSETTO:-0400
TZNAME:EDT
DTSTART:20180311T070000
END:DAYLIGHT
BEGIN:STANDARD
TZOFFSETFROM:-0400
TZOFFSETTO:-0500
TZNAME:EST
DTSTART:20181104T060000
END:STANDARD
BEGIN:DAYLIGHT
TZOFFSETFROM:-0500
TZOFFSETTO:-0400
TZNAME:EDT
DTSTART:20190310T070000
END:DAYLIGHT
BEGIN:STANDARD
TZOFFSETFROM:-0400
TZOFFSETTO:-0500
TZNAME:EST
DTSTART:20191103T060000
END:STANDARD
END:VTIMEZONE
BEGIN:VEVENT
DTSTART;TZID=America/New_York:20181215T113000
DTEND;TZID=America/New_York:20181215T173000
DTSTAMP:20260423T184157
CREATED:20181209T220641Z
LAST-MODIFIED:20181209T220726Z
UID:4160-1544873400-1544895000@www.warrensbeeradventures.com
SUMMARY:HoCo Bus 4-Brewery Tour
DESCRIPTION:Check out Maryland’s finest breweries without the hassle of driving and with the added perks of behind the scenes tours\, a pint of your choice at each stop\, free swag\, good times\, and more! \nThis tour will include the following breweries:\n– Manor Hill Brewing\n– Sapwood Cellars\n– Hysteria Brewing Company\n– Jailbreak Brewing Company \nPick up and drop off will be at the Columbia Sheraton (10207 Wincopin Cir\, Columbia\, MD 21044)\, where there is free parking. Be sure to ask about our discounted room rates.
URL:https://www.warrensbeeradventures.com/event/hoco-bus-4-brewery-tour/
LOCATION:Maryland Brewery Tours\, PO Box 718\, Columbia\, MD
CATEGORIES:Brewery Tour
ATTACH;FMTTYPE=image/jpeg:https://www.warrensbeeradventures.com/wp-content/uploads/2018/11/MD-Brewery-Tour.jpg
END:VEVENT
END:VCALENDAR