BEGIN:VCALENDAR
VERSION:2.0
PRODID:-//Warren&#039;s Beer Adventures - ECPv6.15.20//NONSGML v1.0//EN
CALSCALE:GREGORIAN
METHOD:PUBLISH
X-ORIGINAL-URL:https://www.warrensbeeradventures.com
X-WR-CALDESC:Events for Warren&#039;s Beer Adventures
REFRESH-INTERVAL;VALUE=DURATION:PT1H
X-Robots-Tag:noindex
X-PUBLISHED-TTL:PT1H
BEGIN:VTIMEZONE
TZID:America/New_York
BEGIN:DAYLIGHT
TZOFFSETFROM:-0500
TZOFFSETTO:-0400
TZNAME:EDT
DTSTART:20180311T070000
END:DAYLIGHT
BEGIN:STANDARD
TZOFFSETFROM:-0400
TZOFFSETTO:-0500
TZNAME:EST
DTSTART:20181104T060000
END:STANDARD
BEGIN:DAYLIGHT
TZOFFSETFROM:-0500
TZOFFSETTO:-0400
TZNAME:EDT
DTSTART:20190310T070000
END:DAYLIGHT
BEGIN:STANDARD
TZOFFSETFROM:-0400
TZOFFSETTO:-0500
TZNAME:EST
DTSTART:20191103T060000
END:STANDARD
BEGIN:DAYLIGHT
TZOFFSETFROM:-0500
TZOFFSETTO:-0400
TZNAME:EDT
DTSTART:20200308T070000
END:DAYLIGHT
BEGIN:STANDARD
TZOFFSETFROM:-0400
TZOFFSETTO:-0500
TZNAME:EST
DTSTART:20201101T060000
END:STANDARD
END:VTIMEZONE
BEGIN:VEVENT
DTSTART;TZID=America/New_York:20190123T160000
DTEND;TZID=America/New_York:20190123T220000
DTSTAMP:20260423T183733
CREATED:20181205T155527Z
LAST-MODIFIED:20181205T155527Z
UID:4107-1548259200-1548280800@www.warrensbeeradventures.com
SUMMARY:BYOM @ Black Flag
DESCRIPTION:Bring a mug (within reason) & they’ll fill it up. (It’s a weekly event!)
URL:https://www.warrensbeeradventures.com/event/byom-black-flag-14/
LOCATION:Black Flag Brewing\, 9315 Snowden River Pkwy\, Ste C\, Columbia\, Maryland\, 21046
ATTACH;FMTTYPE=image/jpeg:https://www.warrensbeeradventures.com/wp-content/uploads/2018/11/byom.jpg
END:VEVENT
END:VCALENDAR