BEGIN:VCALENDAR
VERSION:2.0
PRODID:-//Warren&#039;s Beer Adventures - ECPv6.15.20//NONSGML v1.0//EN
CALSCALE:GREGORIAN
METHOD:PUBLISH
X-WR-CALNAME:Warren&#039;s Beer Adventures
X-ORIGINAL-URL:https://www.warrensbeeradventures.com
X-WR-CALDESC:Events for Warren&#039;s Beer Adventures
REFRESH-INTERVAL;VALUE=DURATION:PT1H
X-Robots-Tag:noindex
X-PUBLISHED-TTL:PT1H
BEGIN:VTIMEZONE
TZID:America/New_York
BEGIN:DAYLIGHT
TZOFFSETFROM:-0500
TZOFFSETTO:-0400
TZNAME:EDT
DTSTART:20170312T070000
END:DAYLIGHT
BEGIN:STANDARD
TZOFFSETFROM:-0400
TZOFFSETTO:-0500
TZNAME:EST
DTSTART:20171105T060000
END:STANDARD
BEGIN:DAYLIGHT
TZOFFSETFROM:-0500
TZOFFSETTO:-0400
TZNAME:EDT
DTSTART:20180311T070000
END:DAYLIGHT
BEGIN:STANDARD
TZOFFSETFROM:-0400
TZOFFSETTO:-0500
TZNAME:EST
DTSTART:20181104T060000
END:STANDARD
BEGIN:DAYLIGHT
TZOFFSETFROM:-0500
TZOFFSETTO:-0400
TZNAME:EDT
DTSTART:20190310T070000
END:DAYLIGHT
BEGIN:STANDARD
TZOFFSETFROM:-0400
TZOFFSETTO:-0500
TZNAME:EST
DTSTART:20191103T060000
END:STANDARD
END:VTIMEZONE
BEGIN:VEVENT
DTSTART;TZID=America/New_York:20181221T160000
DTEND;TZID=America/New_York:20181221T233000
DTSTAMP:20260423T165931
CREATED:20181209T221241Z
LAST-MODIFIED:20181209T221241Z
UID:4162-1545408000-1545435000@www.warrensbeeradventures.com
SUMMARY:Used Car Salesman Can Release @ Black Flag
DESCRIPTION:Used Can Salesman Release at Black Flag Brewery\n7.1%\nGalaxy\, Citra\, Citra Lupulin Powder\, Motueka
URL:https://www.warrensbeeradventures.com/event/used-car-salesman-can-release-black-flag/
LOCATION:Black Flag Brewing\, 9315 Snowden River Pkwy\, Ste C\, Columbia\, Maryland\, 21046
CATEGORIES:release
END:VEVENT
BEGIN:VEVENT
DTSTART;TZID=America/New_York:20181221T160000
DTEND;TZID=America/New_York:20181221T233000
DTSTAMP:20260423T165931
CREATED:20181209T221539Z
LAST-MODIFIED:20181209T221539Z
UID:4164-1545408000-1545435000@www.warrensbeeradventures.com
SUMMARY:Ugly Sweater Contest @ Black Flag
DESCRIPTION:We will be running 2 contests – 7pm and 9pm! \n$50 prize for either contest.
URL:https://www.warrensbeeradventures.com/event/ugly-sweater-contest-black-flag/
LOCATION:Black Flag Brewing\, 9315 Snowden River Pkwy\, Ste C\, Columbia\, Maryland\, 21046
END:VEVENT
END:VCALENDAR