BEGIN:VCALENDAR
VERSION:2.0
PRODID:-//Warren&#039;s Beer Adventures - ECPv6.15.20//NONSGML v1.0//EN
CALSCALE:GREGORIAN
METHOD:PUBLISH
X-WR-CALNAME:Warren&#039;s Beer Adventures
X-ORIGINAL-URL:https://www.warrensbeeradventures.com
X-WR-CALDESC:Events for Warren&#039;s Beer Adventures
REFRESH-INTERVAL;VALUE=DURATION:PT1H
X-Robots-Tag:noindex
X-PUBLISHED-TTL:PT1H
BEGIN:VTIMEZONE
TZID:America/New_York
BEGIN:DAYLIGHT
TZOFFSETFROM:-0500
TZOFFSETTO:-0400
TZNAME:EDT
DTSTART:20170312T070000
END:DAYLIGHT
BEGIN:STANDARD
TZOFFSETFROM:-0400
TZOFFSETTO:-0500
TZNAME:EST
DTSTART:20171105T060000
END:STANDARD
BEGIN:DAYLIGHT
TZOFFSETFROM:-0500
TZOFFSETTO:-0400
TZNAME:EDT
DTSTART:20180311T070000
END:DAYLIGHT
BEGIN:STANDARD
TZOFFSETFROM:-0400
TZOFFSETTO:-0500
TZNAME:EST
DTSTART:20181104T060000
END:STANDARD
BEGIN:DAYLIGHT
TZOFFSETFROM:-0500
TZOFFSETTO:-0400
TZNAME:EDT
DTSTART:20190310T070000
END:DAYLIGHT
BEGIN:STANDARD
TZOFFSETFROM:-0400
TZOFFSETTO:-0500
TZNAME:EST
DTSTART:20191103T060000
END:STANDARD
END:VTIMEZONE
BEGIN:VEVENT
DTSTART;TZID=America/New_York:20181214T160000
DTEND;TZID=America/New_York:20181216T190000
DTSTAMP:20260423T165839
CREATED:20181205T162248Z
LAST-MODIFIED:20181205T162736Z
UID:4113-1544803200-1544986800@www.warrensbeeradventures.com
SUMMARY:Drizzy Can Drop
DESCRIPTION:Black Flag and Goonda team up to produce a cinnamon flavored stout. Come early\, these cans will go quickly.
URL:https://www.warrensbeeradventures.com/event/drizzy-black-flag-goonda-collab-can-drop/
LOCATION:Black Flag Brewing\, 9315 Snowden River Pkwy\, Ste C\, Columbia\, Maryland\, 21046
CATEGORIES:release
END:VEVENT
BEGIN:VEVENT
DTSTART;TZID=America/New_York:20181216T140000
DTEND;TZID=America/New_York:20181216T180000
DTSTAMP:20260423T165839
CREATED:20181209T222844Z
LAST-MODIFIED:20181209T222844Z
UID:4170-1544968800-1544983200@www.warrensbeeradventures.com
SUMMARY:Hysteria's Holiday Havoc
DESCRIPTION:It’s the most hectic (wonderful?) time of the year! Stores are packed\, traffic’s a mess\, and everyone’s losing a little bit of sanity as it gets closer to that big day. This year\, to make it a little easier on everyone\, we’re holding not one\, but TWO special Holiday craft marketplaces where a number of small businesses will be on site selling plenty of gift-worthy goods for all your Holiday shopping needs. Come enjoy delicious craft beer and get your Holiday shopping done all in one place! We’ll be constantly updating the list of vendors\, so keep checking back!
URL:https://www.warrensbeeradventures.com/event/hysterias-holiday-havoc/
LOCATION:Hysteria Brewing Company\, 9570 Berger Rd.\, Columbia\, MD\, 21046
END:VEVENT
END:VCALENDAR