BEGIN:VCALENDAR
VERSION:2.0
PRODID:-//Warren&#039;s Beer Adventures - ECPv6.15.20//NONSGML v1.0//EN
CALSCALE:GREGORIAN
METHOD:PUBLISH
X-ORIGINAL-URL:https://www.warrensbeeradventures.com
X-WR-CALDESC:Events for Warren&#039;s Beer Adventures
REFRESH-INTERVAL;VALUE=DURATION:PT1H
X-Robots-Tag:noindex
X-PUBLISHED-TTL:PT1H
BEGIN:VTIMEZONE
TZID:America/New_York
BEGIN:DAYLIGHT
TZOFFSETFROM:-0500
TZOFFSETTO:-0400
TZNAME:EDT
DTSTART:20170312T070000
END:DAYLIGHT
BEGIN:STANDARD
TZOFFSETFROM:-0400
TZOFFSETTO:-0500
TZNAME:EST
DTSTART:20171105T060000
END:STANDARD
BEGIN:DAYLIGHT
TZOFFSETFROM:-0500
TZOFFSETTO:-0400
TZNAME:EDT
DTSTART:20180311T070000
END:DAYLIGHT
BEGIN:STANDARD
TZOFFSETFROM:-0400
TZOFFSETTO:-0500
TZNAME:EST
DTSTART:20181104T060000
END:STANDARD
BEGIN:DAYLIGHT
TZOFFSETFROM:-0500
TZOFFSETTO:-0400
TZNAME:EDT
DTSTART:20190310T070000
END:DAYLIGHT
BEGIN:STANDARD
TZOFFSETFROM:-0400
TZOFFSETTO:-0500
TZNAME:EST
DTSTART:20191103T060000
END:STANDARD
END:VTIMEZONE
BEGIN:VEVENT
DTSTART;TZID=America/New_York:20181211T180000
DTEND;TZID=America/New_York:20181211T230000
DTSTAMP:20260423T170317
CREATED:20181209T224446Z
LAST-MODIFIED:20181209T224446Z
UID:4176-1544551200-1544569200@www.warrensbeeradventures.com
SUMMARY:Stone Xocoveza Chocolate Pairing @ White Oak Tavern
DESCRIPTION:White Oak made chocolate and Stone Xocoveza\, what’s not to like? \n  \n 
URL:https://www.warrensbeeradventures.com/event/stone-xocoveza-chocolate-pairing-white-oak-tavern/
LOCATION:White Oak Tavern\, Enchanted Forest Shopping Center 10030 Baltimore National Pike\, Ellicott City\, MD\, 21042
ORGANIZER;CN="Stone Brewing MD":MAILTO:rich.taylor@stonebrewing.com
END:VEVENT
END:VCALENDAR