BEGIN:VCALENDAR
VERSION:2.0
PRODID:-//Warren&#039;s Beer Adventures - ECPv6.15.20//NONSGML v1.0//EN
CALSCALE:GREGORIAN
METHOD:PUBLISH
X-WR-CALNAME:Warren&#039;s Beer Adventures
X-ORIGINAL-URL:https://www.warrensbeeradventures.com
X-WR-CALDESC:Events for Warren&#039;s Beer Adventures
REFRESH-INTERVAL;VALUE=DURATION:PT1H
X-Robots-Tag:noindex
X-PUBLISHED-TTL:PT1H
BEGIN:VTIMEZONE
TZID:America/New_York
BEGIN:DAYLIGHT
TZOFFSETFROM:-0500
TZOFFSETTO:-0400
TZNAME:EDT
DTSTART:20170312T070000
END:DAYLIGHT
BEGIN:STANDARD
TZOFFSETFROM:-0400
TZOFFSETTO:-0500
TZNAME:EST
DTSTART:20171105T060000
END:STANDARD
BEGIN:DAYLIGHT
TZOFFSETFROM:-0500
TZOFFSETTO:-0400
TZNAME:EDT
DTSTART:20180311T070000
END:DAYLIGHT
BEGIN:STANDARD
TZOFFSETFROM:-0400
TZOFFSETTO:-0500
TZNAME:EST
DTSTART:20181104T060000
END:STANDARD
BEGIN:DAYLIGHT
TZOFFSETFROM:-0500
TZOFFSETTO:-0400
TZNAME:EDT
DTSTART:20190310T070000
END:DAYLIGHT
BEGIN:STANDARD
TZOFFSETFROM:-0400
TZOFFSETTO:-0500
TZNAME:EST
DTSTART:20191103T060000
END:STANDARD
END:VTIMEZONE
BEGIN:VEVENT
DTSTART;TZID=America/New_York:20181017T160000
DTEND;TZID=America/New_York:20181017T220000
DTSTAMP:20260423T195858
CREATED:20181010T172812Z
LAST-MODIFIED:20181010T172812Z
UID:3771-1539792000-1539813600@www.warrensbeeradventures.com
SUMMARY:Bring Your Own Mug @ Black Flag
DESCRIPTION:Bring a mug (within reason) & they’ll fill it up. \n(It’s a weekly event!)
URL:https://www.warrensbeeradventures.com/event/bring-your-own-mug-black-flag-2/
LOCATION:Black Flag Brewing\, 9315 Snowden River Pkwy\, Ste C\, Columbia\, Maryland\, 21046
END:VEVENT
BEGIN:VEVENT
DTSTART;TZID=America/New_York:20181017T190000
DTEND;TZID=America/New_York:20181017T220000
DTSTAMP:20260423T195858
CREATED:20181010T162130Z
LAST-MODIFIED:20181010T162130Z
UID:3748-1539802800-1539813600@www.warrensbeeradventures.com
SUMMARY:Highway Manor Pint Night @ Frisco
DESCRIPTION:Lots of sours from this Pennsylvania Brewer.
URL:https://www.warrensbeeradventures.com/event/highway-manor-pint-night-frisco/
LOCATION:Frisco Tap House\, 6695 Dobbin Rd.\, Columbia\, MD\, 21045\, United States
END:VEVENT
END:VCALENDAR