BEGIN:VCALENDAR
VERSION:2.0
PRODID:-//Warren&#039;s Beer Adventures - ECPv6.15.20//NONSGML v1.0//EN
CALSCALE:GREGORIAN
METHOD:PUBLISH
X-WR-CALNAME:Warren&#039;s Beer Adventures
X-ORIGINAL-URL:https://www.warrensbeeradventures.com
X-WR-CALDESC:Events for Warren&#039;s Beer Adventures
REFRESH-INTERVAL;VALUE=DURATION:PT1H
X-Robots-Tag:noindex
X-PUBLISHED-TTL:PT1H
BEGIN:VTIMEZONE
TZID:America/New_York
BEGIN:DAYLIGHT
TZOFFSETFROM:-0500
TZOFFSETTO:-0400
TZNAME:EDT
DTSTART:20170312T070000
END:DAYLIGHT
BEGIN:STANDARD
TZOFFSETFROM:-0400
TZOFFSETTO:-0500
TZNAME:EST
DTSTART:20171105T060000
END:STANDARD
BEGIN:DAYLIGHT
TZOFFSETFROM:-0500
TZOFFSETTO:-0400
TZNAME:EDT
DTSTART:20180311T070000
END:DAYLIGHT
BEGIN:STANDARD
TZOFFSETFROM:-0400
TZOFFSETTO:-0500
TZNAME:EST
DTSTART:20181104T060000
END:STANDARD
BEGIN:DAYLIGHT
TZOFFSETFROM:-0500
TZOFFSETTO:-0400
TZNAME:EDT
DTSTART:20190310T070000
END:DAYLIGHT
BEGIN:STANDARD
TZOFFSETFROM:-0400
TZOFFSETTO:-0500
TZNAME:EST
DTSTART:20191103T060000
END:STANDARD
END:VTIMEZONE
BEGIN:VEVENT
DTSTART;TZID=America/New_York:20181012T160000
DTEND;TZID=America/New_York:20181012T230000
DTSTAMP:20260423T200832
CREATED:20181012T152855Z
LAST-MODIFIED:20181012T152855Z
UID:3796-1539360000-1539385200@www.warrensbeeradventures.com
SUMMARY:Modern Times Launch @ Frisco
DESCRIPTION:The San Diego brewery\, Modern Times\, makes its debut into Maryland at Frisco Tap House.
URL:https://www.warrensbeeradventures.com/event/modern-times-launch-frisco/
LOCATION:Frisco Tap House\, 6695 Dobbin Rd.\, Columbia\, MD\, 21045\, United States
END:VEVENT
END:VCALENDAR