BEGIN:VCALENDAR
VERSION:2.0
PRODID:-//Warren&#039;s Beer Adventures - ECPv6.15.20//NONSGML v1.0//EN
CALSCALE:GREGORIAN
METHOD:PUBLISH
X-ORIGINAL-URL:https://www.warrensbeeradventures.com
X-WR-CALDESC:Events for Warren&#039;s Beer Adventures
REFRESH-INTERVAL;VALUE=DURATION:PT1H
X-Robots-Tag:noindex
X-PUBLISHED-TTL:PT1H
BEGIN:VTIMEZONE
TZID:America/New_York
BEGIN:DAYLIGHT
TZOFFSETFROM:-0500
TZOFFSETTO:-0400
TZNAME:EDT
DTSTART:20170312T070000
END:DAYLIGHT
BEGIN:STANDARD
TZOFFSETFROM:-0400
TZOFFSETTO:-0500
TZNAME:EST
DTSTART:20171105T060000
END:STANDARD
BEGIN:DAYLIGHT
TZOFFSETFROM:-0500
TZOFFSETTO:-0400
TZNAME:EDT
DTSTART:20180311T070000
END:DAYLIGHT
BEGIN:STANDARD
TZOFFSETFROM:-0400
TZOFFSETTO:-0500
TZNAME:EST
DTSTART:20181104T060000
END:STANDARD
BEGIN:DAYLIGHT
TZOFFSETFROM:-0500
TZOFFSETTO:-0400
TZNAME:EDT
DTSTART:20190310T070000
END:DAYLIGHT
BEGIN:STANDARD
TZOFFSETFROM:-0400
TZOFFSETTO:-0500
TZNAME:EST
DTSTART:20191103T060000
END:STANDARD
END:VTIMEZONE
BEGIN:VEVENT
DTSTART;TZID=America/New_York:20181011T190000
DTEND;TZID=America/New_York:20181011T210000
DTSTAMP:20260423T201343
CREATED:20181010T152725Z
LAST-MODIFIED:20181010T163055Z
UID:3735-1539284400-1539291600@www.warrensbeeradventures.com
SUMMARY:Omega Norwegian Yeast Strains Class @MDHB
DESCRIPTION:Mark Schwarz\, co-founder of Omega Yeast\, will be here at Maryland Homebrew to discuss the unique features and uses of Norwegian yeast strains (and how these features allow brewers to create popular styles like IPAs and Imperial Stouts)\, along with Lactobacillus and some inside info about cell counts and starters. This will be a great event to learn about some of their yeast strains\, ask questions and sample some things made with their yeast.
URL:https://www.warrensbeeradventures.com/event/omega-norwegian-yeast-strains-class-mdhb/
LOCATION:Maryland Homebrew\, 6770 Oak Hall Lane\, Suite #108\, Columbia\, MD\, 21045
END:VEVENT
END:VCALENDAR